BEGIN:VCALENDAR
VERSION:2.0
PRODID:-//Fetish Social Strasbourg - ECPv6.15.20//NONSGML v1.0//EN
CALSCALE:GREGORIAN
METHOD:PUBLISH
X-ORIGINAL-URL:https://fss-fetish.com
X-WR-CALDESC:Évènements pour Fetish Social Strasbourg
REFRESH-INTERVAL;VALUE=DURATION:PT1H
X-Robots-Tag:noindex
X-PUBLISHED-TTL:PT1H
BEGIN:VTIMEZONE
TZID:UTC
BEGIN:STANDARD
TZOFFSETFROM:+0000
TZOFFSETTO:+0000
TZNAME:UTC
DTSTART:20240101T000000
END:STANDARD
END:VTIMEZONE
BEGIN:VEVENT
DTSTART;TZID=UTC:20260321T213000
DTEND;TZID=UTC:20260322T030000
DTSTAMP:20260423T160946
CREATED:20251028T165540Z
LAST-MODIFIED:20260205T162427Z
UID:4676-1774128600-1774148400@fss-fetish.com
SUMMARY:Fetish Social - Lick & Bootblack my Boots!
DESCRIPTION:Notre rendez-vous incontournable ! Avec un atelier entretien des bottes\, boots et accessoires en cuir.\nTout sera bon pour faire briller votre matière préférée ! \nToujours tous FETISH : Cuir – Latex – Sportswear – Uniforme etc.\nPlus ceux qui les aiment et les curieux.\nToujours SOCIAL : Convivialité – Echange – Partage – Respect – Découverte. \nAu Café Grognon : dans une salle privatisée\, avec accès direct à une terrasse (non privatisée).\nAmbiance bienveillante\, petite restauration\, carte des boissons variée et abordable : Carte du Café Grognon \nA partir de 21h30 jusqu’à 3h00. \nTu es intéressé ? Timide ? Seul ? N’hésite pas à nous contacter ici\, par messagerie : nous répondrons à tes questions.\nSi tu le souhaites\, nous pourrons aussi organiser un accueil personnalisé pour faciliter ta venue.\nEnfin\, les membres de notre collectif portant le brassard FSS sont également chargés de l’accueil : n’hésite pas à t’adresser à eux si besoin.
URL:https://fss-fetish.com/evenements/fetish-social-21-03-2026/
LOCATION:Café Grognon\, 2 Av. Léon Dacheux\, Strasbourg\, 67100\, France
END:VEVENT
BEGIN:VEVENT
DTSTART;TZID=UTC:20260220T193000
DTEND;TZID=UTC:20260220T230000
DTSTAMP:20260423T160946
CREATED:20251028T170546Z
LAST-MODIFIED:20260205T175935Z
UID:4689-1771615800-1771628400@fss-fetish.com
SUMMARY:Vendredi Apéro-Resto
DESCRIPTION:Une autre façon de se retrouver\, en dehors des Fetish Sociaux.\nRendez-vous convivial au restaurant La Bonne Source.\nInscription obligatoire. \nEt bien sûr …\nTu es intéressé ? Timide ? Seul ? N’hésite pas à nous contacter ici\, par messagerie : nous répondrons à tes questions.\nSi tu le souhaites\, nous pourrons aussi organiser un accueil personnalisé pour faciliter ta venue.\nEnfin\, les membres de notre collectif portant le brassard FSS sont également chargés de l’accueil : n’hésite pas à t’adresser à eux si besoin.
URL:https://fss-fetish.com/evenements/vendredi-apero-resto-4/
LOCATION:Restaurant La Bonne Source\, 18 rue du Lazaret\, Strasbourg\, 67100
END:VEVENT
BEGIN:VEVENT
DTSTART;TZID=UTC:20260124T213000
DTEND;TZID=UTC:20260125T030000
DTSTAMP:20260423T160946
CREATED:20251028T165339Z
LAST-MODIFIED:20260114T100837Z
UID:4673-1769290200-1769310000@fss-fetish.com
SUMMARY:Fetish Social - Jeux d'Impact
DESCRIPTION:Notre rendez-vous incontournable ! Avec un atelier Jeux d’Impact.\nLe principe est simple : pour les curieux\, les débutants ou les expérimentés\, vous apportez votre matériel (paddle\, martinet\, cravache ou juste vos mains)\, partagez votre expérience\, expérimentez selon vos envies ! Dans un environnement sûr et bienveillant.\nDurée : 30 minutes\, ou plus\, ou moins\, c’est vous qui décidez ! \nToujours tous FETISH : Cuir – Latex – Sportswear – Uniforme etc.\nPlus ceux qui les aiment et les curieux.\nToujours SOCIAL : Convivialité – Echange – Partage – Respect – Découverte. \nAu Café Grognon : dans une salle privatisée\, avec accès direct à une terrasse (non privatisée).\nAmbiance bienveillante\, petite restauration\, carte des boissons variée et abordable : Carte du Café Grognon \nA partir de 21h30 jusqu’à 3h00. \nTu es intéressé ? Timide ? Seul ? N’hésite pas à nous contacter ici\, par messagerie : nous répondrons à tes questions.\nSi tu le souhaites\, nous pourrons aussi organiser un accueil personnalisé pour faciliter ta venue.\nEnfin\, les membres de notre collectif portant le brassard FSS sont également chargés de l’accueil : n’hésite pas à t’adresser à eux si besoin.
URL:https://fss-fetish.com/evenements/fetish-social-2/
LOCATION:Café Grognon\, 2 Av. Léon Dacheux\, Strasbourg\, 67100\, France
END:VEVENT
BEGIN:VEVENT
DTSTART;TZID=UTC:20251122T213000
DTEND;TZID=UTC:20251223T150000
DTSTAMP:20260423T160946
CREATED:20250210T193137Z
LAST-MODIFIED:20251122T114621Z
UID:3464-1763847000-1766502000@fss-fetish.com
SUMMARY:Fetish Social - LateX
DESCRIPTION:Fetish Social spécial LateX : pour les amoureux de cette matière qui brille et qui glisse !\nOuvert bien sûr à tous les autres Fetish ! \nConvivialité – Echange – Partage – Respect – Découverte. \nAu Café Grognon : dans une salle privatisée\, avec accès direct à une terrasse (non privatisée).\nAmbiance bienveillante\, petite restauration\, carte des boissons variée et abordable : Carte du Café Grognon \nA partir de 21h30 jusqu’à 3h00. \nTu es intéressé ? Timide ? Seul ? N’hésite pas à nous contacter ici\, par messagerie : nous répondrons à tes questions.\nSi tu le souhaites\, nous pourrons aussi organiser un accueil personnalisé pour faciliter ta venue.\nEnfin\, les membres de notre collectif portant le brassard FSS sont également chargés de l’accueil : n’hésite pas à t’adresser à eux si besoin.
URL:https://fss-fetish.com/evenements/fetish-social/
LOCATION:Café Grognon\, 2 Av. Léon Dacheux\, Strasbourg\, 67100\, France
END:VEVENT
BEGIN:VEVENT
DTSTART;VALUE=DATE:20250926
DTEND;VALUE=DATE:20250929
DTSTAMP:20260423T160946
CREATED:20250210T192808Z
LAST-MODIFIED:20250915T060619Z
UID:3458-1758844800-1759103999@fss-fetish.com
SUMMARY:W.E. Anniversaire : les 10 ans du FSS !
DESCRIPTION:2015-2025.\n10 ans de rencontres Fetish à Strasbourg.\nPendant 3 jours\, nous fêterons cette belle histoire\, écrite pour vous et avec vous. \n  \n \n \n \nTOMBOLA\nPour nous soutenir en vous faisant plaisir ! C’est important 😉.\nDe nombreux prix à gagner\, offerts par Hardconcept Paris (du cuir\, du cuir\, du cuir !) et la maison d’hôtes Les Volets Bleus à Urbés (parc naturel régional des ballons des Vosges – Haut-Rhin). Merci à eux ! \nVente sur place pendant le dîner du samedi 27 septembre.\nVente en ligne pour ceux qui ne pourront être présents ▶️ sur HelloAsso (lien cliquable).\nPoint important : le tirage au sort pour le harnais de corps en cuir se fera entre ceux qui auront acheté au moins 2 tickets (minimum 10 euros). \nLe tirage au sort aura lieu le samedi 28 septembre pendant la soirée FSS10ans au Café Grognon.\nSi vous n’êtes pas présent pour le tirage au sort\, nous vous contacterons pour finaliser l’envoi par Mondial Relay (frais à notre charge). \n  \n \nVENDREDI 26 SEPTEMBRE\nA partir de 19h00 : APÉRO au Bar La Cuvette de Bouillons.\n8 rue du 22 Novembre – Strasbourg.\nEntrée libre ! \nL’apéro remplace la manifestation « Corps en Résistance » initialement prévue.\nUne accumulation d’événements imprévisibles rend momentanément problématique la tenue – le 26 septembre 2025 – de la soirée produite par notre collectif et consacrée au bondage sous le titre Corps en résistance.\nCette manifestation est reportée à l’année 2026. En effet\, le collectif tient à rester sur le niveau de qualité ayant caractérisé\, en septembre 2024\, la soirée Tom of Finland\nFSS remboursera les billets déjà vendus pour Corps en résistance.\nLe collectif présente ses excuses pour le désagrément occasionné par ce report. \n                                        \nSAMEDI 27 SEPTEMBRE\n14h00-16h00 : Visite du Musée Tomi Ungerer.\nLaissez-vous surprendre par ce personnage hors du commun : dessinateur\, libertaire\, transgressif\, international tout en restant ancré dans sa culture d’origine : l’Alsace.\nLieu de rendez-vous : 13h45 – Place Kléber (prés de la statue du même nom). \n19h00-21h30 : Dîner Fetish Anniversaire.\nLes inscriptions sont closes.\nLes tickets pour la tombola seront encore en vente pendant le dîner. \nA partir de 21h30 : Soirée FSS10ans au Café Grognon.\nPour fêter nos 10 ans\, en totale liberté\, avec :\n– « Kink – Les mondes fétichistes de Berlin et d’ailleurs ».\nPhilippe Olivier lira – en exclusivité et en avant-première – trois courts extraits de son nouveau livre\, à paraître en 2027. Il y raconte diverses expériences vécues ici et là. Il explore les diverses pratiques chères à notre communauté.\nDJ @Fab apportera un soutien musical créatif à la lecture.\n– Le tirage de la tombola. \nSalle privatisée\, terrasse couverte et une équipe aux petits soins.\nEntrée libre.\nCafé Grognon – 2 av. Léon Dacheux – Strasbourg. \n  \nDIMANCHE 28 SEPTEMBRE\nPour terminer en douceur ce W.E.\, un brunch à la brasserie Au Coin des Kneckes.\nBuffet salé sucré avec boissons à volonté.\n26 euros – Réservation jusqu’au 21.09. : sur HelloAsso (lien cliquable). \n  \nD’AVANCE\, MERCI À VOUS POUR VOTRE PRÉSENCE ET VOTRE SOUTIEN !
URL:https://fss-fetish.com/evenements/we-anniversaire-10-ans/
LOCATION:Strasbourg
END:VEVENT
BEGIN:VEVENT
DTSTART;TZID=UTC:20250801T180000
DTEND;TZID=UTC:20250801T233000
DTSTAMP:20260423T160946
CREATED:20250519T183356Z
LAST-MODIFIED:20250710T052904Z
UID:3853-1754071200-1754091000@fss-fetish.com
SUMMARY:Fête de la Bière à Schiltigheim
DESCRIPTION:Il y a Munich. Et il y a Schiltigheim !\nTestée avec succès en 2024 par quelques valeureux membres du FSS\, nous officialisons une sortie Fetish à cet événement local\, haut en couleur et particulièrement convivial.\nBières (à consommer avec modération) ou/et soft\, schlager music\, petite restauration\, le tout dans une ambiance incroyable !\nA partir de 18h00 à l’entrée du chapiteau principal. \nSUR INSCRIPTION (lien cliquable)
URL:https://fss-fetish.com/evenements/fete-de-la-biere-a-schiltigheim/
LOCATION:Schiltigheim\, Place Alfred Muller\, Schiltigheim
END:VEVENT
BEGIN:VEVENT
DTSTART;TZID=UTC:20250718T193000
DTEND;TZID=UTC:20250718T230000
DTSTAMP:20260423T160946
CREATED:20250210T191249Z
LAST-MODIFIED:20250625T153202Z
UID:3454-1752867000-1752879600@fss-fetish.com
SUMMARY:Vendredi Apéro-Resto
DESCRIPTION:Une autre façon de se retrouver\, en dehors des Fetish Sociaux.\nRendez-vous au restaurant à la Brasserie Le Meteor.\nInscription obligatoire sur HelloAsso (lien cliquable) \nEt bien sûr …\nTu es intéressé ? Timide ? Seul ? N’hésite pas à nous contacter ici\, par messagerie : nous répondrons à tes questions.\nSi tu le souhaites\, nous pourrons aussi organiser un accueil personnalisé pour faciliter ta venue.\nEnfin\, les membres de notre collectif portant le brassard FSS sont également chargés de l’accueil : n’hésite pas à t’adresser à eux si besoin.
URL:https://fss-fetish.com/evenements/vendredi-apero-resto-3/
LOCATION:brasserie le Meteor\, 10 rue du 22 novembre\, Strasbourg\, France
END:VEVENT
BEGIN:VEVENT
DTSTART;VALUE=DATE:20250613
DTEND;VALUE=DATE:20250616
DTSTAMP:20260423T160946
CREATED:20241214T171521Z
LAST-MODIFIED:20250614T100314Z
UID:2944-1749772800-1750031999@fss-fetish.com
SUMMARY:W.E. PRIDE
DESCRIPTION:Moment incontournable de l’année\, militant et festif\, pour porter haut et fort nos couleurs.\nL’édition 2024 a été 🌈💥. 2025\, nous serons encore au rendez-vous\, avec vous . \n  \nVENDREDI 13 JUIN\n18h00 : Apero Fetish au bar The Dubliners.\n7 rue du Vieux Marché-aux-Poissons – Strasbourg \n19h30 : dîner au Restaurant Au Petit Tonnelier. SUR RÉSERVATION JUSQU’AU 5 JUIN.\nNotre nouvelle « cantine » pour 2025\, testée avec succès les mois précédents.\n16 rue des Tonneliers – Strasbourg.\nPlat et dessert au choix (à préciser au moment de la réservation) :\n– Plat : Cordon bleu sauce crème et frites maison OU Magret de canard rôti\, sauce aux griottines\, pommes grenaille au thym OU Tartare de boeuf coupé au couteau minute façon Vincent et pommes frites.\n– Dessert : Moëlleux au chocolat noir en poêlette OU Vacherin glacé comme à la ferme OU Lait de coco infusé à la feuille de citronnier\, litchis et fruits de saison.\nRéservation sur HelloAsso : Réservation Dîner Fetish HelloAsso (lien cliquable) \n  \nSAMEDI 14 JUIN\n14h00 : ANNULATION DE NOTRE PARTICIPATION À LA MARCHE DES VISIBILITÉS.\nNotre collectif et Est Fetish Strasbourg ont décidé conjointement de ne pas participer officiellement à la marche organisée par le collectif Festigays.\nPourquoi ? Le communiqué officiel a été publié sur la page Instagram des deux associations et sur la page Facebook de notre collectif.\nA titre individuel\, chacun est bien sûr libre et responsable de participer ou pas à la manifestation.\nLe point de rencontre initialement prévu reste inchangé : à 13h30\, Place de l’Université\, dans le parc entre le Village Associatif et la rue de l’Université (voir le plan ci-dessus). \nA partir de 21h30 : Fetish Social After Pride au Café Grognon.\nSalle privatisée\, terrasse pour les amateurs de cigares\, bar avec billard\, petite restauration sur place : liberté\, convivialité pour fêter ce moment important de l’année.\n2 Av. Léon Dacheux – Strasbourg\nEntrée libre. Pour tous les Fetish et ceux qui les aiment. \n  \nDIMANCHE 15 JUIN\n13h00 : Brunch à la brasserie Au Coin des Kneckes. SUR RÉSERVATION JUSQU’AU 5 JUIN.\n34 rue de la Course – Strasbourg\nPour terminer en douceur\, un brunch en terrasse.\nBuffet sucré salé et boissons à volonté. 26 euros.\nRéservation sur HelloAsso : Réservation Brunch HelloAsso (lien cliquable)
URL:https://fss-fetish.com/evenements/w-e-pride/
LOCATION:Strasbourg
END:VEVENT
BEGIN:VEVENT
DTSTART;TZID=UTC:20250524T213000
DTEND;TZID=UTC:20250524T233000
DTSTAMP:20260423T160946
CREATED:20241214T170519Z
LAST-MODIFIED:20250602T142940Z
UID:2940-1748122200-1748129400@fss-fetish.com
SUMMARY:Fetish Social
DESCRIPTION:Notre rendez-vous incontournable ! \nToujours tous FETISH : Cuir – Latex – Sportswear – Uniforme etc.\nPlus ceux qui les aiment et les curieux.\nToujours SOCIAL : Convivialité – Echange – Partage – Respect – Découverte. \nAu Café Grognon : dans une salle privatisée\, avec accès direct à une terrasse (non privatisée).\nAmbiance bienveillante\, petite restauration\, carte des boissons variée et abordable : Carte du Café Grognon \nA partir de 21h30 jusqu’à 3h00. \nAvec du BOOTBLACKING et une BOURSE AUX VÊTEMENTS FETISH. \nTu es intéressé ? Timide ? Seul ? N’hésite pas à nous contacter ici\, par messagerie : nous répondrons à tes questions.\nSi tu le souhaites\, nous pourrons aussi organiser un accueil personnalisé pour faciliter ta venue.\nEnfin\, les membres de notre collectif portant le brassard FSS sont également chargés de l’accueil : n’hésite pas à t’adresser à eux si besoin.
URL:https://fss-fetish.com/evenements/fetish-social-mai-2025/
LOCATION:Café Grognon\, 2 Av. Léon Dacheux\, Strasbourg\, 67100\, France
END:VEVENT
BEGIN:VEVENT
DTSTART;TZID=UTC:20250425T193000
DTEND;TZID=UTC:20250425T230000
DTSTAMP:20260423T160946
CREATED:20241214T170051Z
LAST-MODIFIED:20250403T174413Z
UID:2935-1745609400-1745622000@fss-fetish.com
SUMMARY:Vendredi Apéro-Resto
DESCRIPTION:Une autre façon de se retrouver\, en dehors des Fetish Sociaux.\nEt pour cette nouvelle année\, un nouveau lieu\, histoire de varier les plaisirs : Au Petit Tonnelier\, dans la vieille ville.\nMais les fondamentaux seront bien présents : convivial\, local\, et à prix abordables. \n30 euros : plat (au choix) + dessert (au choix). Boissons en sup. \nSur inscription : par message privé sur notre site. \nEXCEPTIONNELLEMENT\, pour cet Apéro-Resto\, le délai de réponse pour les inscriptions peut être allongé. Patience !  \nEt bien sûr …\nTu es intéressé ? Timide ? Seul ? N’hésite pas à nous contacter ici\, par messagerie : nous répondrons à tes questions.\nSi tu le souhaites\, nous pourrons aussi organiser un accueil personnalisé pour faciliter ta venue.\nEnfin\, les membres de notre collectif portant le brassard FSS sont également chargés de l’accueil : n’hésite pas à t’adresser à eux si besoin.
URL:https://fss-fetish.com/evenements/vendredi-apero-resto-2/
LOCATION:Restaurant Au Petit Tonnelier\, 16 rue des Tonneliers\, Strasbourg\, 67000\, France
END:VEVENT
BEGIN:VEVENT
DTSTART;TZID=UTC:20250322T213000
DTEND;TZID=UTC:20250323T150000
DTSTAMP:20260423T160946
CREATED:20241214T163452Z
LAST-MODIFIED:20250210T193952Z
UID:2927-1742679000-1742742000@fss-fetish.com
SUMMARY:Fetish Social
DESCRIPTION:Notre rendez-vous incontournable ! \nToujours tous FETISH : Cuir – Latex – Sportswear – Uniforme etc.\nPlus ceux qui les aiment et les curieux.\nToujours SOCIAL : Convivialité – Echange – Partage – Respect – Découverte. \nAu Café Grognon : dans une salle privatisée\, avec accès direct à une terrasse (non privatisée).\nAmbiance bienveillante\, petite restauration\, carte des boissons variée et abordable : Carte du Café Grognon \nA partir de 21h30 jusqu’à 3h00. \nTu es intéressé ? Timide ? Seul ? N’hésite pas à nous contacter ici\, par messagerie : nous répondrons à tes questions.\nSi tu le souhaites\, nous pourrons aussi organiser un accueil personnalisé pour faciliter ta venue.\nEnfin\, les membres de notre collectif portant le brassard FSS sont également chargés de l’accueil : n’hésite pas à t’adresser à eux si besoin.
URL:https://fss-fetish.com/evenements/fetish-social-mars-2025/
LOCATION:Café Grognon\, 2 Av. Léon Dacheux\, Strasbourg\, 67100\, France
END:VEVENT
BEGIN:VEVENT
DTSTART;TZID=UTC:20250221T193000
DTEND;TZID=UTC:20250221T230000
DTSTAMP:20260423T160946
CREATED:20241214T161847Z
LAST-MODIFIED:20250208T080618Z
UID:2909-1740166200-1740178800@fss-fetish.com
SUMMARY:Vendredi Apéro-Resto
DESCRIPTION:  \n\n			\n				\n			\n		\n\n1er vendredi Apéro-Resto de 2025 !\nUne autre façon de se retrouver\, en dehors des Fetish Sociaux.\nEt pour cette nouvelle année\, un nouveau lieu\, histoire de varier les plaisirs : Au Petit Tonnelier\, dans la vieille ville.\nMais les fondamentaux seront bien présents : convivial\, local\, et à prix abordables. \nInscription JUSQU’AU 11 FEVRIER par message sur CONTACT \n30 euros : plat + dessert.\nVous choisissez parmi les 3 plats au choix + 3 desserts au choix (à préciser au moment de la réservation) :\nPLATS :\nChoucroute aux 5 viandes.\nGalettes de pomme de terre\, saumon fumé\, fromage blanc aux herbes.\nJoues de porc\, sauce pinot noir\, spaetzles muscade. \nDESSERTS :\nCrème brûlée à l’orange.\nMoelleux au chocolat.\nIrish coffee/Café Alsacien au Marc de Gewurztraminer. \nEt bien sûr …\nTu es intéressé ? Timide ? Seul ? N’hésite pas à nous contacter ici\, par messagerie : nous répondrons à tes questions.\nSi tu le souhaites\, nous pourrons aussi organiser un accueil personnalisé pour faciliter ta venue.\nEnfin\, les membres de notre collectif portant le brassard FSS sont également chargés de l’accueil : n’hésite pas à t’adresser à eux si besoin.
URL:https://fss-fetish.com/evenements/vendredi-apero-resto/
LOCATION:Restaurant Au Petit Tonnelier\, 16 rue des Tonneliers\, Strasbourg\, 67000\, France
END:VEVENT
BEGIN:VEVENT
DTSTART;VALUE=DATE:20250215
DTEND;VALUE=DATE:20250217
DTSTAMP:20260423T160946
CREATED:20241214T181244Z
LAST-MODIFIED:20241214T181759Z
UID:2952-1739577600-1739750399@fss-fetish.com
SUMMARY:W.E. Xperience Swiss Fetish
DESCRIPTION:Le FSS est très heureux de participer au 𝐖.𝐄. 𝐗𝐩é𝐫𝐢𝐞𝐧𝐜𝐞 𝐒𝐰𝐢𝐬𝐬 𝐅𝐞𝐭𝐢𝐬𝐡 à 𝐁𝐞𝐫𝐧e dans le cadre d’un nouveau partenariat avec cette association Fetish basée à Berne.\nHistoriquement\, depuis plusieurs décennies\, la communauté Fetish de Strasbourg\, et d’Alsace\, est en lien étroit avec les groupes allemands et suisses. Et ca continue !\nTu souhaites te joindre à nous ? N’hésite pas à nous contacter par message privé.\nPour le détail du programme : Site internet Xperience Swiss Fetish \nInstagram Xperience Swiss Fetish \nFacebook Xperience Swiss Fetish
URL:https://fss-fetish.com/evenements/w-e-xperience-swiss-fetish/
LOCATION:Berne
END:VEVENT
BEGIN:VEVENT
DTSTART;TZID=UTC:20250214T180000
DTEND;TZID=UTC:20250214T191500
DTSTAMP:20260423T160946
CREATED:20241214T174918Z
LAST-MODIFIED:20250109T165853Z
UID:2946-1739556000-1739560500@fss-fetish.com
SUMMARY:Rencontre "Chemsex & Alcool" - Librairie Kléber
DESCRIPTION:Parce que la prévention et le partage d’expérience sont essentiels.\nRencontre à la Librairie Kléber (Salle blanche) sur la thématique du Chemsex et de l’alcool\, en présence des écrivains Charlotte Peyronnet et Ian B. chacun ayant publié un livre témoignage :\n– Charlotte : « Et toi\, pourquoi tu bois ? » (Denoël)\n– Ian : « Ma vie en poudre » (Les Impliqués).\nIls viendront respectivement de Paris et de Toulouse pour cette rencontre. \nEn partenariat avec AIDES Strasbourg. \nInformation et inscription sur le site de la Librairie Kléber (lien cliquable)
URL:https://fss-fetish.com/evenements/rencontre-chemsex-alcool-librairie-kleber/
LOCATION:Librairie Kléber\, 1 rue des Francs-Bourgeois\, Strasbourg\, France
END:VEVENT
BEGIN:VEVENT
DTSTART;TZID=UTC:20250110T213000
DTEND;TZID=UTC:20250110T213000
DTSTAMP:20260423T160946
CREATED:20241208T173514Z
LAST-MODIFIED:20250108T215034Z
UID:2661-1736544600-1736544600@fss-fetish.com
SUMMARY:Fetish Social
DESCRIPTION:1er Fetish Social de 2025 ! \nToujours tous FETISH : Cuir – Latex – Sportswear – Uniforme etc.\nPlus ceux qui les aiment et les curieux.\nToujours SOCIAL : Convivialité – Echange – Partage – Respect – Découverte. \nAprès le fantastique BLUF Social de novembre\, nous revenons au Café Grognon : dans une salle privatisée\, avec accès direct à une terrasse (non privatisée).\nAmbiance bienveillante\, petite restauration\, carte des boissons variée et abordable : Carte du Café Grognon \nA partir de 21h30 jusqu’à 3h00. \nTu es intéressé ? Timide ? Seul ? N’hésite pas à nous contacter ici\, par messagerie : nous répondrons à tes questions.\nSi tu le souhaites\, nous pourrons aussi organiser un accueil personnalisé pour faciliter ta venue.\nEnfin\, les membres de notre collectif portant le brassard FSS sont également chargés de l’accueil : n’hésite pas à t’adresser à eux si besoin. \n 
URL:https://fss-fetish.com/evenements/fetish-social-vendredi-10-01-2025/
LOCATION:Café Grognon\, 2 Av. Léon Dacheux\, Strasbourg\, 67100\, France
END:VEVENT
END:VCALENDAR